BEGIN:VCALENDAR
VERSION:2.0
PRODID:
BEGIN:VEVENT
UID:356947imp
DTSTAMP:20260424T091858Z
DTSTART:20261116T140000Z
DTEND:20261116T220000Z
SUMMARY: Surgent's Employer's Handbook: Legal\, Tax\, and Health Care Issues
DESCRIPTION: The employer-employee relationship strains both sides in uncertain times\, and businesses need CPAs\, controllers\, and other advisors to provide understanding of the complex legal\, tax\, and health care issues associated with all aspects of employment. This course provides in-depth coverage of this critical area. It will be updated and supplemented throughout the year to cover breaking developments.Delivery Method: Individual webcastCPE Credit: 8Program Level: BasicThis course is being offered by a learning partner. You may access the Surgent platform through the My CPE page on vscpa.com after purchase\n 
CLASS:PUBLIC
END:VEVENT
END:VCALENDAR
