BEGIN:VCALENDAR
VERSION:2.0
PRODID:
BEGIN:VEVENT
UID:356918imp
DTSTAMP:20260424T001559Z
DTSTART:20261111T140000Z
DTEND:20261111T220000Z
SUMMARY: Surgent's Technical Individual Practice Issues and Tax Forms for Experienced Practitioners
DESCRIPTION: Don't let the title frighten you. Experienced staff can get bogged down in busy season with advanced practice and reporting issues. With major legislation enacted over the past few years\, we bring you the distilled version of what you need to know for the current year and significant current proposals that may impact the tax landscape in future years or even retroactively. 

This course discusses the topics that experienced staff\, managers\, and partners should understand in depth while also assisting experienced staff in avoiding costly mistakes when facing complicated 1040 issues. The manual includes advanced examples and several advanced cases with "filled-in" forms provided with the complete answers.Delivery Method: Individual webcastCPE Credit: 8Program Level: AdvancedThis course is being offered by a learning partner. You may access the Surgent platform through the My CPE page on vscpa.com after purchase\n 
CLASS:PUBLIC
END:VEVENT
END:VCALENDAR
