BEGIN:VCALENDAR
VERSION:2.0
PRODID:
BEGIN:VEVENT
UID:356906imp
DTSTAMP:20260424T024930Z
DTSTART:20261110T180000Z
DTEND:20261110T200000Z
SUMMARY: Surgent's Controllership Skills Update: Current Survival Skills
DESCRIPTION: The role of financial professionals has and continues to change in organizations. The stereotype of collecting and reporting data has been replaced by a broader vision\, which focuses on improving an organization's results today and preparing it for the future. This brief program offers specific actions that can be implemented by financial personnel to expand their role through improving their organization. The actions and techniques provided build upon and improve activities that exist in many organizations (measuring\, budgeting\, hiring\, risk management\, etc.)\, as well as providing insights into capital allocation\, cash management\, valuation techniques\, variables that influence capacity levels\, M&A activity and actions to increase efficiency and innovation. Updated to include the impact of regulations\, additional examples of M&A\, alliances and strategic spin-offs/splits\, methods to improve efficiency from existing activities\, the impact of COVID-19\, as well as current organizational changes employed to manage and accelerate growth.Delivery Method: Individual webcastCPE Credit: 2Program Level: UpdateThis course is being offered by a learning partner. You may access the Surgent platform through the My CPE page on vscpa.com after purchase\n 
CLASS:PUBLIC
END:VEVENT
END:VCALENDAR
