BEGIN:VCALENDAR
VERSION:2.0
PRODID:
BEGIN:VEVENT
UID:356898imp
DTSTAMP:20260424T025113Z
DTSTART:20261110T150000Z
DTEND:20261110T230000Z
SUMMARY: Surgent's S Corporation Core Tax Issues From Formation Through Liquidation
DESCRIPTION: As experienced staff members master the preparation intricacies of an 1120-S tax return\, they are expected to understand and apply the underlying concepts\, principles and laws governing S corporation status. This course is designed to illustrate in both theory and practice overarching principles that govern S corporations from formation to revocation\, termination and liquidation. Experienced\, client-facing staff should be aware of the pitfalls that may inadvertently cause an S-status termination or may generate unintended tax consequences to shareholders.Delivery Method: Individual webcastCPE Credit: 8Program Level: IntermediateThis course is being offered by a learning partner. You may access the Surgent platform through the My CPE page on vscpa.com after purchase\n 
CLASS:PUBLIC
END:VEVENT
END:VCALENDAR
