BEGIN:VCALENDAR
VERSION:2.0
PRODID:
BEGIN:VEVENT
UID:356881imp
DTSTAMP:20260425T004628Z
DTSTART:20261106T140000Z
DTEND:20261106T220000Z
SUMMARY: Surgent's Securing a Comfortable Retirement in the Age of Spending
DESCRIPTION: This course gives CPAs the knowledge to help their clients plan for retirement by evaluating how much retirement income will be required and strategizing about how to reach retirement goals.Delivery Method: Individual webcastCPE Credit: 8Program Level: IntermediateThis course is being offered by a learning partner. You may access the Surgent platform through the My CPE page on vscpa.com after purchase\n 
CLASS:PUBLIC
END:VEVENT
END:VCALENDAR
