BEGIN:VCALENDAR
VERSION:2.0
PRODID:
BEGIN:VEVENT
UID:356876imp
DTSTAMP:20260423T164056Z
DTSTART:20261106T180000Z
DTEND:20261106T213000Z
SUMMARY: Surgent's Critical Issues Involving Taxation of Construction Contractors
DESCRIPTION: Many consider taxation of construction contractors to be the most complex area of the Internal Revenue Code. This industry is subject to many elections and considerations to reduce or defer amounts owed. In this course\, we will highlight these areas and discuss potential opportunities for practitioners and their clients. We will also discuss the impact of recent legislation on construction taxation\, including changes to net operating losses and the AMT rules. This is a critical presentation tailored for CPAs who work for or represent construction contractors.Delivery Method: Individual webcastCPE Credit: 4Program Level: IntermediateThis course is being offered by a learning partner. You may access the Surgent platform through the My CPE page on vscpa.com after purchase\n 
CLASS:PUBLIC
END:VEVENT
END:VCALENDAR
