BEGIN:VCALENDAR
VERSION:2.0
PRODID:
BEGIN:VEVENT
UID:356856imp
DTSTAMP:20260423T181658Z
DTSTART:20261104T140000Z
DTEND:20261104T220000Z
SUMMARY: Surgent's Technical Business Practice Issues and Tax Forms for Experienced Practitioners
DESCRIPTION: Don't let the title frighten you.  It is critical that staff be trained on the increasingly complex forms-related issues that challenge them each busy season. This course will help experienced staff focus on the essential amidst the cacophony of IRS and legislative changes and avoid costly mistakes.

This course brings to the forefront advanced preparation issues\, from individual returns to flow-through entities such as S corporations\, LLCs\, and partnerships.Delivery Method: Individual webcastCPE Credit: 8Program Level: AdvancedThis course is being offered by a learning partner. You may access the Surgent platform through the My CPE page on vscpa.com after purchase\n 
CLASS:PUBLIC
END:VEVENT
END:VCALENDAR
