BEGIN:VCALENDAR
VERSION:2.0
PRODID:
BEGIN:VEVENT
UID:356817imp
DTSTAMP:20260423T220327Z
DTSTART:20261030T170000Z
DTEND:20261030T190000Z
SUMMARY: Surgent's Update on the SECURE 2.0 Act
DESCRIPTION: This course provides a comprehensive analysis of the SECURE 2.0 Act (Act) that includes key provisions of the Act available for implementation in 2025. The principal focus of the Act was to expand retirement coverage and increase retirement savings. As such\, the Act included many important changes relating to IRAs and qualified plans. This legislation alters the landscape of retirement planning for taxpayers of all ages. Make sure you are up to date with the latest information relating to these changes in order to effectively advise your clients on these important provisions.Delivery Method: Individual webcastCPE Credit: 2Program Level: BasicThis course is being offered by a learning partner. You may access the Surgent platform through the My CPE page on vscpa.com after purchase\n 
CLASS:PUBLIC
END:VEVENT
END:VCALENDAR
