BEGIN:VCALENDAR
VERSION:2.0
PRODID:
BEGIN:VEVENT
UID:356792imp
DTSTAMP:20260424T151631Z
DTSTART:20261028T130000Z
DTEND:20261028T210000Z
SUMMARY: Surgent's Single Auditing Made Simple
DESCRIPTION: Single auditing can seem so complex! With literally thousands of pages of potential AICPA\, GAO and OMB guidance converging for the audit of one client\, auditors can easily lose focus and confidence in what they are supposed to do. It does not have to be that way! This course is designed to sharpen your skills and knowledge in performing single audits. Through more than 30 focused exercises\, the course provides a highly practical\, hands-on approach to mastering today's most critical single audit challenges.

Delivery Method: Individual webcastCPE Credit: 8Program Level: IntermediateThis course is being offered by a learning partner. You may access the Surgent platform through the My CPE page on vscpa.com after purchase\n 
CLASS:PUBLIC
END:VEVENT
END:VCALENDAR
