BEGIN:VCALENDAR
VERSION:2.0
PRODID:
BEGIN:VEVENT
UID:356777imp
DTSTAMP:20260423T231904Z
DTSTART:20261027T170000Z
DTEND:20261027T190000Z
SUMMARY: Surgent's Schedules K-2 and K-3: Filing Requirements
DESCRIPTION: Many partnerships and S corporations are now required to complete the voluminous Schedules K-2 and K-3 to report foreign-related tax information. Updated for the 2024 tax year\, this course is an essential guide for tax preparers on how to identify which entities need to complete these schedules and how to identify which parts are applicable to a given taxpayer. The filing requirements are broad and often not very intuitive\, catching many practitioners unaware that more schedules and parts are applicable to more taxpayers than anticipated. This course includes a deep dive into the domestic filing exception\, a discussion of filing requirements of each part of Schedule K-2\, and numerous examples of common taxpayer scenarios.

Please note: Surgent also offers a companion course\, "Schedules K-2 and K-3: Preparation of Forms" (KPF2).Delivery Method: Individual webcastCPE Credit: 2Program Level: BasicThis course is being offered by a learning partner. You may access the Surgent platform through the My CPE page on vscpa.com after purchase\n 
CLASS:PUBLIC
END:VEVENT
END:VCALENDAR
