BEGIN:VCALENDAR
VERSION:2.0
PRODID:
BEGIN:VEVENT
UID:356760imp
DTSTAMP:20260423T172725Z
DTSTART:20261026T130000Z
DTEND:20261026T210000Z
SUMMARY: Surgent's Annual Tax-Planning Guide for S Corporations\, Partnerships\, and LLCs
DESCRIPTION: As long as LLCs\, partnerships\, and S corporations form the backbone of many CPAs' practices\, in-depth knowledge of all tax aspects of these entities will be essential. The purpose of this practical course is to focus on planning issues in creating\, operating\, and liquidating S corporations\, partnerships\, and LLCs. This course is essential for CPAs in public accounting and industry who advise these entities or their investors.Delivery Method: Individual webcastCPE Credit: 8Program Level: IntermediateThis course is being offered by a learning partner. You may access the Surgent platform through the My CPE page on vscpa.com after purchase\n 
CLASS:PUBLIC
END:VEVENT
END:VCALENDAR
