BEGIN:VCALENDAR
VERSION:2.0
PRODID:
BEGIN:VEVENT
UID:356747imp
DTSTAMP:20260425T020000Z
DTSTART:20261023T140000Z
DTEND:20261023T160000Z
SUMMARY: Surgent's Employee Stock Options: What Financial Professionals Should Know When Advising Their Clients
DESCRIPTION: Companies often offer stock options as an additional form of compensation to attract and retain the best talent. Used appropriately\, stock options can generate significant wealth\, yet many employees are unfamiliar with how stock options work and why options serve as a valuable opportunity for employees to establish and grow their wealth. Unfortunately\, employees who receive stock options are often unaware of their inherent risks.

Research has shown that over 76% of employees have never exercised their stock options. Almost half of these individuals (48%)\, say they held off on selling their options due to fear of making a mistake. This course provides accounting and finance professionals with a broad overview of employee stock options. The webinar is designed to help participants better understand the fundamentals behind these investments and\, in turn\, better advise their clients.Delivery Method: Individual webcastCPE Credit: 2Program Level: BasicThis course is being offered by a learning partner. You may access the Surgent platform through the My CPE page on vscpa.com after purchase\n 
CLASS:PUBLIC
END:VEVENT
END:VCALENDAR
