BEGIN:VCALENDAR
VERSION:2.0
PRODID:
BEGIN:VEVENT
UID:356744imp
DTSTAMP:20260422T062336Z
DTSTART:20261022T170000Z
DTEND:20261022T203000Z
SUMMARY: Surgent's Business Law for Small Business Owners
DESCRIPTION: One of the most intimidating aspects of going into business for yourself is compliance. Tax\, employment\, and regulatory laws are difficult to navigate\, so it often falls on the CPA to know the basics in these areas to help their clients avoid costly litigation. In this course\, we will cover basic compliance areas for small business owners. We will look at the main elements of a contract\, taxation of entity types\, worker classification\, property law\, and many of the other areas that are often overwhelming for small business owners. By being able to speak to these issues\, practitioners will be able to add value and help their small business owner clients grow and thrive.Delivery Method: Individual webcastCPE Credit: 4Program Level: BasicThis course is being offered by a learning partner. You may access the Surgent platform through the My CPE page on vscpa.com after purchase\n 
CLASS:PUBLIC
END:VEVENT
END:VCALENDAR
