BEGIN:VCALENDAR
VERSION:2.0
PRODID:
BEGIN:VEVENT
UID:356742imp
DTSTAMP:20260424T153405Z
DTSTART:20261022T140000Z
DTEND:20261022T160000Z
SUMMARY: Surgent's Business Writing: Professional & Effective Emails
DESCRIPTION: Good writing is good business. Studies show that the average business worker receives 121 emails per day. That's a lot of emails. Are your emails effective? Are they being read? Are they professional and tone-smart? In this course\, you will learn techniques and skills to get your emails to stand out and improve their effectiveness and professionalism.Delivery Method: Individual webcastCPE Credit: 2Program Level: BasicThis course is being offered by a learning partner. You may access the Surgent platform through the My CPE page on vscpa.com after purchase\n 
CLASS:PUBLIC
END:VEVENT
END:VCALENDAR
