BEGIN:VCALENDAR
VERSION:2.0
PRODID:
BEGIN:VEVENT
UID:356720imp
DTSTAMP:20260423T212652Z
DTSTART:20261021T180000Z
DTEND:20261021T200000Z
SUMMARY: Surgent's Time Management for Professionals
DESCRIPTION: The phrase "time management" is misleading. No one manages time. Instead\, we manage events in our lives which consume time. Like money\, time is both finite and valuable\; it should be budgeted and used wisely. Those individuals who "manage" or budget their time wisely often are more productive\, less stressed\, and able to achieve their goals more effectively than others. 

Professionals by nature place a high value on their time. Still\, successful time management strategies vary based upon the personality\, motivation\, and discipline of each individual. This course provides simple\, practical\, and powerful techniques that help professionals work efficiently and achieve better balance in their lives. Successful time management skills also reduce the risk of burnout\, which in turn improves the likelihood of achieving success in any endeavor.Delivery Method: Individual webcastCPE Credit: 2Program Level: BasicThis course is being offered by a learning partner. You may access the Surgent platform through the My CPE page on vscpa.com after purchase\n 
CLASS:PUBLIC
END:VEVENT
END:VCALENDAR
