BEGIN:VCALENDAR
VERSION:2.0
PRODID:
BEGIN:VEVENT
UID:356712imp
DTSTAMP:20260423T170351Z
DTSTART:20261020T173000Z
DTEND:20261020T210000Z
SUMMARY: Surgent's Best Practices in Not-for-Profit Accounting and Reporting
DESCRIPTION: Don't just wing it when you can soar! To catch the eye of resource providers and fulfill the needs of leadership\, it is essential that not-for-profits prepare financial statements which excel. This course will empower you with the knowledge of not-for-profit accounting and reporting to surpass the expectations of financial statement users. Over 20 focused exercises are included to illustrate and refine today's best practices in not-for-profit accounting and reporting.Delivery Method: Individual webcastCPE Credit: 4Program Level: IntermediateThis course is being offered by a learning partner. You may access the Surgent platform through the My CPE page on vscpa.com after purchase\n 
CLASS:PUBLIC
END:VEVENT
END:VCALENDAR
