BEGIN:VCALENDAR
VERSION:2.0
PRODID:
BEGIN:VEVENT
UID:356700imp
DTSTAMP:20260424T014705Z
DTSTART:20261020T180000Z
DTEND:20261020T200000Z
SUMMARY: Surgent's Real Estate for Accounting and Finance Professionals
DESCRIPTION: Explore the intricacies of federal income taxation as it intertwines with rental real estate activities. This course delves into the calculation of rental income\, understanding the nuances of deductions\, and unraveling the complexities of passive activity loss rules. Whether it's mastering Schedule E or understanding Congress' intent behind tax laws\, professionals will leave with an enriched understanding.Delivery Method: Individual webcastCPE Credit: 2Program Level: BasicThis course is being offered by a learning partner. You may access the Surgent platform through the My CPE page on vscpa.com after purchase\n 
CLASS:PUBLIC
END:VEVENT
END:VCALENDAR
