BEGIN:VCALENDAR
VERSION:2.0
PRODID:
BEGIN:VEVENT
UID:356699imp
DTSTAMP:20260424T153517Z
DTSTART:20261020T150000Z
DTEND:20261020T170000Z
SUMMARY: Surgent's Purchase and Sale of a Residence: Critical Tax Issues
DESCRIPTION: Many clients end up selling one or more residences during their lifetimes. Accounting and finance professionals must be aware of the tax rules that relate to such sales in order to assist their clients regarding these sales. This program provides accounting and finance professionals with the tax rules they need to know to help their clients when they sell a personal residence. This program is a comprehensive survey of the various tax issues associated with the sale of a residence.Delivery Method: Individual webcastCPE Credit: 2Program Level: BasicThis course is being offered by a learning partner. You may access the Surgent platform through the My CPE page on vscpa.com after purchase\n 
CLASS:PUBLIC
END:VEVENT
END:VCALENDAR
