BEGIN:VCALENDAR
VERSION:2.0
PRODID:
BEGIN:VEVENT
UID:356678imp
DTSTAMP:20260424T115948Z
DTSTART:20261016T130000Z
DTEND:20261016T163000Z
SUMMARY: Surgent's S Corporation Taxation: Advanced Issues
DESCRIPTION: This course goes beyond the basics and addresses important practical issues that an experienced practitioner must know about S corporations.Delivery Method: Individual webcastCPE Credit: 4Program Level: AdvancedThis course is being offered by a learning partner. You may access the Surgent platform through the My CPE page on vscpa.com after purchase\n 
CLASS:PUBLIC
END:VEVENT
END:VCALENDAR
