BEGIN:VCALENDAR
VERSION:2.0
PRODID:
BEGIN:VEVENT
UID:356675imp
DTSTAMP:20260423T231415Z
DTSTART:20261016T180000Z
DTEND:20261016T210000Z
SUMMARY: Surgent's Tax Loss Limitations Imposed on Individuals and Pass-through Entities
DESCRIPTION: Accounting and finance professionals advising their business clients must be fully informed regarding the multiple loss limitation provisions that apply to individuals conducting businesses and pass-through entities. This program covers the loss limitation rules that accounting and finance professionals must know in order to advise their individual and pass-through entity clients fully and adequately as to when and if a loss limitation applies. The loss limitations discussed in this program start with an introductory discussion of hobby loss rules and graduate to more substantive discussion of the remaining loss limitations: basis limits\, at-risk rules\, passive loss limits\, excess business loss limits\, net operating losses\, and the Section 163(j) interest limitation. Knowing when loss limits apply is essential for any accounting and finance professional. This program will put you in a position to advise clients fully and intelligently regarding each of the loss limits. This program discusses new OBBBA changes that impact tax loss limitations impacting individuals and pass-through entities.Delivery Method: Individual webcastCPE Credit: 3Program Level: BasicThis course is being offered by a learning partner. You may access the Surgent platform through the My CPE page on vscpa.com after purchase\n 
CLASS:PUBLIC
END:VEVENT
END:VCALENDAR
