BEGIN:VCALENDAR
VERSION:2.0
PRODID:
BEGIN:VEVENT
UID:356659imp
DTSTAMP:20260424T160833Z
DTSTART:20261014T190000Z
DTEND:20261014T210000Z
SUMMARY: Surgent's Unconscious Bias in the Workplace
DESCRIPTION: This interactive professional development course explores the concept of unconscious bias and its impact on workplace dynamics\, decision-making\, and organizational culture. Through engaging exercises\, real-world case studies\, and reflective activities\, participants will gain a deeper understanding of how implicit attitudes shape perceptions and behaviors &mdash\; often without conscious awareness. The course empowers learners to recognize their own biases\, understand their origins\, and develop strategies to mitigate their effects in professional settings. Participants will leave with actionable tools to foster a more inclusive\, equitable\, and respectful workplace.Delivery Method: Individual webcastCPE Credit: 2Program Level: OverviewThis course is being offered by a learning partner. You may access the Surgent platform through the My CPE page on vscpa.com after purchase\n 
CLASS:PUBLIC
END:VEVENT
END:VCALENDAR
