BEGIN:VCALENDAR
VERSION:2.0
PRODID:
BEGIN:VEVENT
UID:356643imp
DTSTAMP:20260423T061238Z
DTSTART:20261013T190000Z
DTEND:20261013T210000Z
SUMMARY: Surgent's Introduction to AI in Accounting
DESCRIPTION: This course introduces the foundational concepts of artificial intelligence (AI) and AI's relevance to accounting. Participants will explore various AI applications and understand the benefits\, challenges\, and future trends associated with AI integration in accounting. Case studies of successful AI implementation in accounting firms are included to enhance learning.Delivery Method: Individual webcastCPE Credit: 2Program Level: BasicThis course is being offered by a learning partner. You may access the Surgent platform through the My CPE page on vscpa.com after purchase\n 
CLASS:PUBLIC
END:VEVENT
END:VCALENDAR
