BEGIN:VCALENDAR
VERSION:2.0
PRODID:
BEGIN:VEVENT
UID:356642imp
DTSTAMP:20260424T153436Z
DTSTART:20261013T173000Z
DTEND:20261013T210000Z
SUMMARY: Surgent's Select Estate and Life Planning Issues for the Middle-Income Client
DESCRIPTION: Clients think that estate planning only applies to the very rich. In truth\, there are many issues of critical concern for which the middle-income client needs to plan. This course is a must-attend for all Accounting and Financial Professionals who work with middle-income clients and are looking for ways to provide additional quality services. Updated for developments relative to estate tax changes.Delivery Method: Individual webcastCPE Credit: 4Program Level: BasicThis course is being offered by a learning partner. You may access the Surgent platform through the My CPE page on vscpa.com after purchase\n 
CLASS:PUBLIC
END:VEVENT
END:VCALENDAR
