BEGIN:VCALENDAR
VERSION:2.0
PRODID:
BEGIN:VEVENT
UID:356615imp
DTSTAMP:20260425T120828Z
DTSTART:20261008T130000Z
DTEND:20261008T210000Z
SUMMARY: Surgent’s Advanced Critical Tax Issues for Limited Liability Companies and Partnerships
DESCRIPTION: The purpose of this course is to provide an in-depth discussion of selected advanced-level issues affecting LLCs and LLPs.Delivery Method: Individual webcastCPE Credit: 8Program Level: AdvancedThis course is being offered by a learning partner. You may access the Surgent platform through the My CPE page on vscpa.com after purchase\n 
CLASS:PUBLIC
END:VEVENT
END:VCALENDAR
