BEGIN:VCALENDAR
VERSION:2.0
PRODID:
BEGIN:VEVENT
UID:356612imp
DTSTAMP:20260422T155539Z
DTSTART:20261007T153000Z
DTEND:20261007T233000Z
SUMMARY: Surgent's Compilations\, Reviews\, and Preparations: Engagement Performance and Annual Update
DESCRIPTION: Specifically designed for preparation\, compilation\, and review practitioners\, this course will provide you with a comprehensive review and hands-on application for performing financial statement preparation\, compilation\, and review engagements. You will learn the ins and outs of applying SSARS No. 21\, Clarification and Recodification\, as well as the additional guidance related to SSARS engagements through the issuance of SSARS Nos. 22-26 by the ARSC. In addition to SSARS 26\, the entire suite of quality management standards is discussed.

However\, knowing the standards is not enough. You need to be able to effectively apply them. To support this\, the course will review recent peer review feedback on SSARS engagements\, providing insights on how to successfully apply this guidance.

Not only will this course bring you up to date on SSARS requirements and guidance\, but more importantly\, it will provide you with practical examples and illustrations to help you effectively and efficiently perform these types of engagements. This course is intended to be your go-to reference for training your staff and managing your SSARS No. 21-26 services in compliance with professional\, ethical\, and technical requirements.Delivery Method: Individual webcastCPE Credit: 8Program Level: UpdateThis course is being offered by a learning partner. You may access the Surgent platform through the My CPE page on vscpa.com after purchase\n 
CLASS:PUBLIC
END:VEVENT
END:VCALENDAR
