BEGIN:VCALENDAR
VERSION:2.0
PRODID:
BEGIN:VEVENT
UID:356594imp
DTSTAMP:20260424T041609Z
DTSTART:20261005T140000Z
DTEND:20261005T160000Z
SUMMARY: Surgent's Cybersecurity Risk Management for Financial Professionals: Policies\, Controls\, and Emerging Threats
DESCRIPTION: This course focuses on implementing cybersecurity policies\, controls\, and risk management strategies tailored to financial environments. It emphasizes practical applications to mitigate threats and highlights global compliance standards\, particularly their relevance and applicability to U.S. organizations.Delivery Method: Individual webcastCPE Credit: 2Program Level: BasicThis course is being offered by a learning partner. You may access the Surgent platform through the My CPE page on vscpa.com after purchase\n 
CLASS:PUBLIC
END:VEVENT
END:VCALENDAR
