BEGIN:VCALENDAR
VERSION:2.0
PRODID:
BEGIN:VEVENT
UID:356562imp
DTSTAMP:20260424T023009Z
DTSTART:20260930T140000Z
DTEND:20260930T160000Z
SUMMARY: Surgent's A Guide to Nonqualified Deferred Compensation
DESCRIPTION: This course is designed to provide a deep understanding of NQDC plans\, focusing on the regulations\, tax nuances\, and strategies to understand to effectively advise clients. Participants will learn about the key features of NQDC plans\, their differences from qualified retirement plans\, and the compliance requirements under IRC Section 409A and other relevant regulations. The course will cover the taxation of NQDC plans\, including income recognition\, FICA\, and federal/state taxes\, for both employers and employees. Attendees will explore various types of NQDC plans and discuss their unique features and benefits. The course will also delve into financing and funding options for NQDC plans and provide guidance on developing and implementing effective planning strategies based on participant demographics\, company objectives\, and tax efficiency. By the end of the course\, participants will have the knowledge and tools to properly advise clients on NQDC plans to maximize benefits while ensuring compliance with regulations.Delivery Method: Individual webcastCPE Credit: 2Program Level: BasicThis course is being offered by a learning partner. You may access the Surgent platform through the My CPE page on vscpa.com after purchase\n 
CLASS:PUBLIC
END:VEVENT
END:VCALENDAR
