BEGIN:VCALENDAR
VERSION:2.0
PRODID:
BEGIN:VEVENT
UID:356522imp
DTSTAMP:20260421T185853Z
DTSTART:20260924T130000Z
DTEND:20260924T210000Z
SUMMARY: Surgent's Individual and Financial-Planning Tax Camp
DESCRIPTION: Each year brings its own set of tax planning challenges\, and this year is no exception. This course aims to arm tax planners with planning strategies and ideas that all clients\, but in particular\, wealthy clients\, middle-income clients\, and closely held business owners need to consider right now to take advantage of present opportunities and plan for future tax advantages. Learn strategies that can really have an impact on client lives\, while also bringing value to you and your firm.  Please Note: 2026 returns are not covered in this course.  They will be covered after their issuance\, as part of our spring 2027 course release.Delivery Method: Individual webcastCPE Credit: 8Program Level: IntermediateThis course is being offered by a learning partner. You may access the Surgent platform through the My CPE page on vscpa.com after purchase\n 
CLASS:PUBLIC
END:VEVENT
END:VCALENDAR
