BEGIN:VCALENDAR
VERSION:2.0
PRODID:
BEGIN:VEVENT
UID:356503imp
DTSTAMP:20260424T185614Z
DTSTART:20260922T170000Z
DTEND:20260922T190000Z
SUMMARY: Surgent's Improving Your Profits: Identifying Cost Cutting Opportunities
DESCRIPTION: Part of one's duty as a CPA working in industry is to safeguard the assets of the organization. Cost cutting is one way to preserve assets and maintain a company's competitive position in the industry. However\, what keeps us from ridding our organizations of unnecessary costs? In this course\, we will look at the factors that prevent our companies from being as streamlined as they could be. By using statistics and survey data\, we will attempt to show how to better negotiate and navigate budgeting and contracting decisions. We will also discuss financial statement analysis techniques\, benchmarking\, and cash flow management in an effort to better cut costs and maintain the long-run viability of an organization.Delivery Method: Individual webcastCPE Credit: 2Program Level: BasicThis course is being offered by a learning partner. You may access the Surgent platform through the My CPE page on vscpa.com after purchase\n 
CLASS:PUBLIC
END:VEVENT
END:VCALENDAR
