BEGIN:VCALENDAR
VERSION:2.0
PRODID:
BEGIN:VEVENT
UID:356475imp
DTSTAMP:20260423T191657Z
DTSTART:20260918T170000Z
DTEND:20260918T203000Z
SUMMARY: Surgent's Applying ASC 820: The Basics of Fair Value Accounting
DESCRIPTION: While once thought just to apply to banking and financial institutions\, entities now need to apply fair value accounting under ASC 820 across a variety of transactions. Whether you are assessing financial instruments\, leases\, business combination accounting\, or impairment measurement\, GAAP either requires or allows the use of fair value measures in an expanding number of circumstances. Now is the time for you to get up-to-speed on the basics of the fair value approach. 

In this course\, we will review when fair value accounting is required and when an entity can select to use it. Then we will review the basics of the ASC 820 model\, including the concept of "exit price\," the various approaches that an entity may follow when using a fair value approach\, and the different levels of inputs that an entity may consider when determining fair value. Lastly\, the course will provide examples of when and how to apply this complex accounting guidance.Delivery Method: Individual webcastCPE Credit: 4Program Level: IntermediateThis course is being offered by a learning partner. You may access the Surgent platform through the My CPE page on vscpa.com after purchase\n 
CLASS:PUBLIC
END:VEVENT
END:VCALENDAR
