BEGIN:VCALENDAR
VERSION:2.0
PRODID:
BEGIN:VEVENT
UID:356453imp
DTSTAMP:20260424T225425Z
DTSTART:20260916T170000Z
DTEND:20260916T190000Z
SUMMARY: Surgent's Hiring and Firing of Employees - What You Can and Cannot Do
DESCRIPTION: There are numerous federal laws that restrict what businesses can do in terms of hiring and firing employees. Many of these laws impose significant penalties if employers violate them. Accordingly\, it is crucial that all employers and their professional advisors understand these laws and apply them to their employment practices.Delivery Method: Individual webcastCPE Credit: 2Program Level: BasicThis course is being offered by a learning partner. You may access the Surgent platform through the My CPE page on vscpa.com after purchase\n 
CLASS:PUBLIC
END:VEVENT
END:VCALENDAR
