BEGIN:VCALENDAR
VERSION:2.0
PRODID:
BEGIN:VEVENT
UID:356432imp
DTSTAMP:20260422T214618Z
DTSTART:20260914T170000Z
DTEND:20260914T203000Z
SUMMARY: Surgent's Navigating Your Client Through the IRS Appeals Process
DESCRIPTION: Despite the fact that a client's tax matter may be taken directly to court\, utilizing the IRS Independent Office of Appeals usually results in saving your client both time and money. Join us as we discuss the misunderstood process of navigating through the complex IRS Appeals.Delivery Method: Individual webcastCPE Credit: 4Program Level: IntermediateThis course is being offered by a learning partner. You may access the Surgent platform through the My CPE page on vscpa.com after purchase\n 
CLASS:PUBLIC
END:VEVENT
END:VCALENDAR
