BEGIN:VCALENDAR
VERSION:2.0
PRODID:
BEGIN:VEVENT
UID:356430imp
DTSTAMP:20260422T161458Z
DTSTART:20260914T180000Z
DTEND:20260914T200000Z
SUMMARY: Surgent's Foundations of Cybersecurity for Financial Professionals
DESCRIPTION: This course introduces key cybersecurity concepts tailored for financial professionals. It emphasizes the CPA's role in cyber risk management\, key terminology\, and practical steps to foster a security mindset\, integrating cybersecurity with financial reporting.Delivery Method: Individual webcastCPE Credit: 2Program Level: BasicThis course is being offered by a learning partner. You may access the Surgent platform through the My CPE page on vscpa.com after purchase\n 
CLASS:PUBLIC
END:VEVENT
END:VCALENDAR
