BEGIN:VCALENDAR
VERSION:2.0
PRODID:
BEGIN:VEVENT
UID:356419imp
DTSTAMP:20260424T060328Z
DTSTART:20260911T150000Z
DTEND:20260911T160000Z
SUMMARY: Surgent's Adapting to Today’s Changing Accounting Landscape
DESCRIPTION: The field of accounting is undergoing rapid evolution in response to a complex interplay of technological advancements\, regulatory reforms\, economic fluctuations\, and shifting societal dynamics. In this course\, we will explore the major challenges and opportunities currently facing accountants\, and we will equip you with the knowledge and skills needed to excel in this dynamic environment.Delivery Method: Individual webcastCPE Credit: 1Program Level: BasicThis course is being offered by a learning partner. You may access the Surgent platform through the My CPE page on vscpa.com after purchase\n 
CLASS:PUBLIC
END:VEVENT
END:VCALENDAR
