BEGIN:VCALENDAR
VERSION:2.0
PRODID:
BEGIN:VEVENT
UID:356404imp
DTSTAMP:20260423T213112Z
DTSTART:20260909T180000Z
DTEND:20260909T200000Z
SUMMARY: Surgent's Top 20 Effective Strategies for Avoiding RMD Mistakes and Penalties
DESCRIPTION: Required minimum distributions (RMDs) must begin for the year in which the account owner reaches age 72 (older if they were born after 1950). RMDs must also be taken from inherited accounts\, and the process for determining RMDs for these accounts is more complex than those that apply to RMDs for non-inherited accounts. Failure to comply with the RMD rules will result in the account owner owing the IRS an excess accumulation penalty on any RMD shortfall. Interested parties must understand the compliance requirements that apply to RMDs to be able to assist in ensuring that penalties are avoided. Additionally\, the recent changes that affect RMDs must be considered when advising clients about their RMD obligations.Delivery Method: Individual webcastCPE Credit: 2Program Level: BasicThis course is being offered by a learning partner. You may access the Surgent platform through the My CPE page on vscpa.com after purchase\n 
CLASS:PUBLIC
END:VEVENT
END:VCALENDAR
