BEGIN:VCALENDAR
VERSION:2.0
PRODID:
BEGIN:VEVENT
UID:356395imp
DTSTAMP:20260422T011625Z
DTSTART:20260909T130000Z
DTEND:20260909T210000Z
SUMMARY: Surgent's A Complete Guide to the Yellow Book
DESCRIPTION: A thorough understanding of the Yellow Book is essential for anyone working with governments and not-for-profits. This course provides comprehensive coverage of Yellow Book requirements while building confidence and proficiency in performing Yellow Book audits. The course uses a highly illustrative and engaging format\, featuring more than 25 focused exercises designed to strengthen practical application and enhance working knowledge.Delivery Method: Individual webcastCPE Credit: 8Program Level: BasicThis course is being offered by a learning partner. You may access the Surgent platform through the My CPE page on vscpa.com after purchase\n 
CLASS:PUBLIC
END:VEVENT
END:VCALENDAR
