BEGIN:VCALENDAR
VERSION:2.0
PRODID:
BEGIN:VEVENT
UID:356380imp
DTSTAMP:20260422T093238Z
DTSTART:20260904T170000Z
DTEND:20260904T203000Z
SUMMARY: Surgent's Succession Planning for the Small Business Owner: Finding the Exit Ramp
DESCRIPTION: The life cycle of the small business can be summed up in three segments: 1) starting the business\; 2) operating the business\; and 3) getting out of the business. This course focuses on getting out of the business. The most elusive element of owning a small business can be finding the proper exit strategy. This course is designed to provide the business consulting practitioner with tools and concepts to advise the small business owner and assist them in developing the right exit strategy. The course covers exit strategies related to third-party sales and succession planning within a family.Delivery Method: Individual webcastCPE Credit: 4Program Level: IntermediateThis course is being offered by a learning partner. You may access the Surgent platform through the My CPE page on vscpa.com after purchase\n 
CLASS:PUBLIC
END:VEVENT
END:VCALENDAR
