BEGIN:VCALENDAR
VERSION:2.0
PRODID:
BEGIN:VEVENT
UID:356374imp
DTSTAMP:20260423T164046Z
DTSTART:20260903T130000Z
DTEND:20260903T163000Z
SUMMARY: Surgent's You’ve Got This: An Introduction to Yellow Book and Single Audits
DESCRIPTION: If you work with governments or not-for-profits\, mastering the fundamentals of Yellow Book and single audits is essential. This beginner-friendly course breaks down the key requirements of the Yellow Book and the Uniform Guidance for Federal Awards into clear\, manageable concepts. You'll learn the essentials of performing Yellow Book and single audits with confidence&mdash\;building a strong foundation\, boosting your understanding\, and equipping you to conduct audits efficiently and effectively.Delivery Method: Individual webcastCPE Credit: 4Program Level: BasicThis course is being offered by a learning partner. You may access the Surgent platform through the My CPE page on vscpa.com after purchase\n 
CLASS:PUBLIC
END:VEVENT
END:VCALENDAR
