BEGIN:VCALENDAR
VERSION:2.0
PRODID:
BEGIN:VEVENT
UID:356370imp
DTSTAMP:20260423T215013Z
DTSTART:20260903T140000Z
DTEND:20260903T160000Z
SUMMARY: Surgent's Stock vs. Asset Acquisitions of C Corporations
DESCRIPTION: A business conducted as a C corporation can be purchased through an asset acquisition or a stock acquisition. In an asset acquisition\, the buyer purchases the business by purchasing the assets that make up the C corporation's ongoing business. In a stock acquisition\, the buyer purchases the stock of the C corporation that owns all or a majority of the business assets. The seller and the buyer are usually at odds over how to structure the acquisition. Accounting and finance professionals advising their clients should be fully conversant in the tax rules that apply to stock and asset acquisitions. Discussing and explaining those rules is the focus of this course.Delivery Method: Individual webcastCPE Credit: 2Program Level: IntermediateThis course is being offered by a learning partner. You may access the Surgent platform through the My CPE page on vscpa.com after purchase\n 
CLASS:PUBLIC
END:VEVENT
END:VCALENDAR
