BEGIN:VCALENDAR
VERSION:2.0
PRODID:
BEGIN:VEVENT
UID:356313imp
DTSTAMP:20260424T034655Z
DTSTART:20260827T170000Z
DTEND:20260827T190000Z
SUMMARY: Surgent's Exploring Business Valuation Fundamentals
DESCRIPTION: What makes a business valuable? Who determines value? What are the key factors that make businesses valuable? In this course\, we explore the different ways to value a business. We will apply foundational valuation and corporate finance concepts to real world examples in an effort to see what makes up an investment's price.Delivery Method: Individual webcastCPE Credit: 2Program Level: BasicThis course is being offered by a learning partner. You may access the Surgent platform through the My CPE page on vscpa.com after purchase\n 
CLASS:PUBLIC
END:VEVENT
END:VCALENDAR
