BEGIN:VCALENDAR
VERSION:2.0
PRODID:
BEGIN:VEVENT
UID:356307imp
DTSTAMP:20260424T024815Z
DTSTART:20260827T130000Z
DTEND:20260827T210000Z
SUMMARY: Surgent's Predicting Future Financial Issues Facing the Financial Executive
DESCRIPTION: Our financial and economic series is designed to take key topics for financial executives and explore them in detail such that the CFO/controller/financial executive can take away useful and practical recommendations dealing with the topic at hand. The program explores the current economic trends and analyze their impact on you as the financial executive in areas professional skepticism\, medical care costs\, social security viability\, the dollar as a world currency\, the national infrastructure and the "fate of the states" as well as the AICPA's top 10 trends and technologies. Specific recommendations and insights will be offered to you to deal with the challenges.Delivery Method: Individual webcastCPE Credit: 8Program Level: BasicThis course is being offered by a learning partner. You may access the Surgent platform through the My CPE page on vscpa.com after purchase\n 
CLASS:PUBLIC
END:VEVENT
END:VCALENDAR
