BEGIN:VCALENDAR
VERSION:2.0
PRODID:
BEGIN:VEVENT
UID:356299imp
DTSTAMP:20260424T134321Z
DTSTART:20260826T180000Z
DTEND:20260826T200000Z
SUMMARY: Surgent's Raising Financially Capable Children
DESCRIPTION: This course focuses on the main elements of financial education and will help accounting and finance professionals guide their clients\, and their clients' children\, through a personalized teaching roadmap. Clients with wealth face questions about how to teach their children about money to raise financially capable children. Often\, clients' first contact is with their accounting and financial professionals\, so it is important to be able to provide a framework to help teach clients how to prepare their children for life with privilege.

This course is designed for all practitioners who want to help their clients navigate the process of teaching the next generation about personal finances. Because every family and child are different\, it is critical to develop a specific plan for each client\, and likely each child and grandchild. By working with their clients' descendants\, accounting and finance professionals not only build rapport and trust but also get to know the children and grandchildren\, building firm value and long-term connection. With new and updated information and tactics\, professionals can learn best practices to engage clients and their children.Delivery Method: Individual webcastCPE Credit: 2Program Level: BasicThis course is being offered by a learning partner. You may access the Surgent platform through the My CPE page on vscpa.com after purchase\n 
CLASS:PUBLIC
END:VEVENT
END:VCALENDAR
