BEGIN:VCALENDAR
VERSION:2.0
PRODID:
BEGIN:VEVENT
UID:356292imp
DTSTAMP:20260424T160519Z
DTSTART:20260826T173000Z
DTEND:20260826T210000Z
SUMMARY: Surgent's Fraud In Single Audits
DESCRIPTION: With all the planning\, procedures\, and reporting involved in a single audit\, sometimes things can slip through the cracks. But what if the thing that slips through is fraud? Compiled from news releases\, court records\, and the thrilling annals of the Federal Audit Clearinghouse\, this course tells the tale of seven real-world frauds that seemingly dodged detection in the single audit process. Leveraging the incredible gift of hindsight\, this course is designed to raise your awareness and sharpen your focus on the potential for fraud in single audits!Delivery Method: Individual webcastCPE Credit: 4Program Level: IntermediateThis course is being offered by a learning partner. You may access the Surgent platform through the My CPE page on vscpa.com after purchase\n 
CLASS:PUBLIC
END:VEVENT
END:VCALENDAR
