BEGIN:VCALENDAR
VERSION:2.0
PRODID:
BEGIN:VEVENT
UID:356265imp
DTSTAMP:20260424T110114Z
DTSTART:20260821T130000Z
DTEND:20260821T163000Z
SUMMARY: Surgent's Project Management: Tips\, Tricks\, and Traps
DESCRIPTION: Recent economic\, societal\, and political changes have shown us the need for numerous projects and the need to manage those projects in a unique way. Project management is a way of thinking highly recognized and practiced by large organizations\, but often neglected by the smallest companies and entrepreneurs. This course quickly discusses the basics of project management thought and practice and then spends the majority of the time exploring some of the greatest mistakes that can be made\, the ways to avoid them\, and some of the tricks that have been introduced into the discipline. In the program we will explore some of the specific types of project management as well as some of the available software programs to make the task of project management easier.Delivery Method: Individual webcastCPE Credit: 4Program Level: IntermediateThis course is being offered by a learning partner. You may access the Surgent platform through the My CPE page on vscpa.com after purchase\n 
CLASS:PUBLIC
END:VEVENT
END:VCALENDAR
