BEGIN:VCALENDAR
VERSION:2.0
PRODID:
BEGIN:VEVENT
UID:356263imp
DTSTAMP:20260421T234517Z
DTSTART:20260820T173000Z
DTEND:20260820T210000Z
SUMMARY: Surgent's Yellow Book and Single Audits: How to Stay in Good Graces and Out of Bad Places with Your Peer Reviewer
DESCRIPTION: If you perform Yellow Book audits and/or single audits\, it is a given that a peer reviewer will be looking at your work on those engagements! Why fret and sweat about what peer reviewers are going to be looking for? In this course\, we will explore the key audit requirements that peer reviewers focus on\, how the auditor complies with those requirements\, and common pitfalls seen in Yellow Book and single audits. This course will help you proceed and succeed in your Yellow Book and single audits.Delivery Method: Individual webcastCPE Credit: 4Program Level: IntermediateThis course is being offered by a learning partner. You may access the Surgent platform through the My CPE page on vscpa.com after purchase\n 
CLASS:PUBLIC
END:VEVENT
END:VCALENDAR
