BEGIN:VCALENDAR
VERSION:2.0
PRODID:
BEGIN:VEVENT
UID:356245imp
DTSTAMP:20260425T033411Z
DTSTART:20260819T180000Z
DTEND:20260819T200000Z
SUMMARY: Surgent's Governing Agentic AI: Cybersecurity\, Data\, and Risk
DESCRIPTION: As accounting firms and financial institutions deploy agentic AI\, they face significant governance challenges. This course focuses on cybersecurity\, data governance\, and risk management practices essential for the safe and effective use of autonomous systems. Participants will examine frameworks such as NIST AI RMF and the CSA's red-teaming guidelines\, as well as case studies on AI-powered cyber incidents. The course equips professionals to assess agentic system vulnerabilities\, implement controls\, and integrate risk insights into enterprise compliance strategies. This course equips CPAs to fulfill their oversight responsibilities in safeguarding financial data and ensuring the reliability of autonomous systems within the enterprise's control environment.Delivery Method: Individual webcastCPE Credit: 2Program Level: BasicThis course is being offered by a learning partner. You may access the Surgent platform through the My CPE page on vscpa.com after purchase\n 
CLASS:PUBLIC
END:VEVENT
END:VCALENDAR
