BEGIN:VCALENDAR
VERSION:2.0
PRODID:
BEGIN:VEVENT
UID:356236imp
DTSTAMP:20260424T191559Z
DTSTART:20260818T170000Z
DTEND:20260818T190000Z
SUMMARY: Surgent's Make Resilience Work for You – An Accounting Leader’s Guide to a Holistic Approach for Managing Teams
DESCRIPTION: Resilience training was originally developed to strengthen individuals in high-risk groups like law enforcement\, firefighters\, and the military. This course also speaks to accounting and finance experts in a very challenging discipline. Resilience training is based on the intriguing assumption that resilience can be learned. A resilience leader possesses mental toughness\, competence\, and confidence. A confident accounting or finance person makes better decisions and thinks in deliberate ways to meet adversity and pressure.

Resilience is the ability to exercise tenacity\, bounce back from tough times\, or even triumph in the face of adversity. Today's accounting professionals will experience challenges but are able to reframe then as learning opportunities. Resilient accounting and finance professionals push their limits\, learn from their mistakes\, and are able to transform an organization and themselves.Delivery Method: Individual webcastCPE Credit: 2Program Level: BasicThis course is being offered by a learning partner. You may access the Surgent platform through the My CPE page on vscpa.com after purchase\n 
CLASS:PUBLIC
END:VEVENT
END:VCALENDAR
