BEGIN:VCALENDAR
VERSION:2.0
PRODID:
BEGIN:VEVENT
UID:356235imp
DTSTAMP:20260424T014331Z
DTSTART:20260818T170000Z
DTEND:20260818T190000Z
SUMMARY: Surgent's More Money at the End of the Month: Strategic Ways to Improve Cash Flow
DESCRIPTION: Cash flow management is often the most important task of any CFO or financial leader. Regardless of whether one works in start-ups or established companies\, non-profit or for-profit entities\, cash flow makes our organizations run. Have you ever wondered whether you are optimizing your company's cash flow? In this course\, we will explore how to improve your company's cash flow using analysis and financial theories in the context of real-world situations.Delivery Method: Individual webcastCPE Credit: 2Program Level: OverviewThis course is being offered by a learning partner. You may access the Surgent platform through the My CPE page on vscpa.com after purchase\n 
CLASS:PUBLIC
END:VEVENT
END:VCALENDAR
