BEGIN:VCALENDAR
VERSION:2.0
PRODID:
BEGIN:VEVENT
UID:356185imp
DTSTAMP:20260424T153912Z
DTSTART:20260811T130000Z
DTEND:20260811T163000Z
SUMMARY: Surgent's Required Minimum Distributions: Compliance and Planning
DESCRIPTION: Required minimum distributions (RMDs) from employer retirement plans and IRAs must be made or steep penalties will be incurred. Planning opportunities exist in certain situations to minimize distributions. Also\, special rules exist for inherited retirement funds. Your clients depend on you to help them navigate the rules regarding required minimum distributions and the taxation of distributions. This course addresses compliance issues and planning opportunities regarding required minimum distributions.Delivery Method: Individual webcastCPE Credit: 4Program Level: IntermediateThis course is being offered by a learning partner. You may access the Surgent platform through the My CPE page on vscpa.com after purchase\n 
CLASS:PUBLIC
END:VEVENT
END:VCALENDAR
