BEGIN:VCALENDAR
VERSION:2.0
PRODID:
BEGIN:VEVENT
UID:356183imp
DTSTAMP:20260422T214926Z
DTSTART:20260811T140000Z
DTEND:20260811T160000Z
SUMMARY: Surgent's Where To Live in Retirement
DESCRIPTION: Deciding where to live in retirement is a challenge that involves a multitude of factors that differ for everyone. Each person and couple should evaluate their current living situation to see where their goals and lifestyles in retirement can best be met. The program covers the various factors that most people should consider when thinking about where to spend their retirement years.Delivery Method: Individual webcastCPE Credit: 2Program Level: BasicThis course is being offered by a learning partner. You may access the Surgent platform through the My CPE page on vscpa.com after purchase\n 
CLASS:PUBLIC
END:VEVENT
END:VCALENDAR
